BEGIN:VCALENDAR
VERSION:2.0
PRODID:-//Kyocera SGS Europe - ECPv6.15.17//NONSGML v1.0//EN
CALSCALE:GREGORIAN
METHOD:PUBLISH
X-ORIGINAL-URL:https://kyocera-sgstool.co.uk
X-WR-CALDESC:Events for Kyocera SGS Europe
REFRESH-INTERVAL;VALUE=DURATION:PT1H
X-Robots-Tag:noindex
X-PUBLISHED-TTL:PT1H
BEGIN:VTIMEZONE
TZID:Europe/London
BEGIN:DAYLIGHT
TZOFFSETFROM:+0000
TZOFFSETTO:+0100
TZNAME:BST
DTSTART:20230326T010000
END:DAYLIGHT
BEGIN:STANDARD
TZOFFSETFROM:+0100
TZOFFSETTO:+0000
TZNAME:GMT
DTSTART:20231029T010000
END:STANDARD
BEGIN:DAYLIGHT
TZOFFSETFROM:+0000
TZOFFSETTO:+0100
TZNAME:BST
DTSTART:20240331T010000
END:DAYLIGHT
BEGIN:STANDARD
TZOFFSETFROM:+0100
TZOFFSETTO:+0000
TZNAME:GMT
DTSTART:20241027T010000
END:STANDARD
BEGIN:DAYLIGHT
TZOFFSETFROM:+0000
TZOFFSETTO:+0100
TZNAME:BST
DTSTART:20250330T010000
END:DAYLIGHT
BEGIN:STANDARD
TZOFFSETFROM:+0100
TZOFFSETTO:+0000
TZNAME:GMT
DTSTART:20251026T010000
END:STANDARD
END:VTIMEZONE
BEGIN:VEVENT
DTSTART;TZID=Europe/London:20241203T083000
DTEND;TZID=Europe/London:20241204T163000
DTSTAMP:20260424T070710
CREATED:20241122T110635Z
LAST-MODIFIED:20241122T123148Z
UID:2487-1733214600-1733329800@kyocera-sgstool.co.uk
SUMMARY:Hurco Open House - 3rd and 4th December 2024
DESCRIPTION:Book your free ticket here: Christmas 2024 Open House \nWe will be showcasing our extensive range of high performance tooling\, with live demonstrations at the Hurco Christmas Open House event. Come along and see how we can support you with your machining challenges!
URL:https://kyocera-sgstool.co.uk/event/hurco-open-house-3rd-and-4th-december-2024/
LOCATION:Hurco Europe\, The Merlin Centre\, Cressex Business Park\, 12 Lancaster Road\, High Wycombe\, HP12 3TB\, United Kingdom
END:VEVENT
END:VCALENDAR