BEGIN:VCALENDAR
VERSION:2.0
PRODID:-//Kyocera SGS Europe - ECPv6.15.17//NONSGML v1.0//EN
CALSCALE:GREGORIAN
METHOD:PUBLISH
X-WR-CALNAME:Kyocera SGS Europe
X-ORIGINAL-URL:https://kyocera-sgstool.co.uk
X-WR-CALDESC:Events for Kyocera SGS Europe
REFRESH-INTERVAL;VALUE=DURATION:PT1H
X-Robots-Tag:noindex
X-PUBLISHED-TTL:PT1H
BEGIN:VTIMEZONE
TZID:Europe/London
BEGIN:DAYLIGHT
TZOFFSETFROM:+0000
TZOFFSETTO:+0100
TZNAME:BST
DTSTART:20230326T010000
END:DAYLIGHT
BEGIN:STANDARD
TZOFFSETFROM:+0100
TZOFFSETTO:+0000
TZNAME:GMT
DTSTART:20231029T010000
END:STANDARD
BEGIN:DAYLIGHT
TZOFFSETFROM:+0000
TZOFFSETTO:+0100
TZNAME:BST
DTSTART:20240331T010000
END:DAYLIGHT
BEGIN:STANDARD
TZOFFSETFROM:+0100
TZOFFSETTO:+0000
TZNAME:GMT
DTSTART:20241027T010000
END:STANDARD
BEGIN:DAYLIGHT
TZOFFSETFROM:+0000
TZOFFSETTO:+0100
TZNAME:BST
DTSTART:20250330T010000
END:DAYLIGHT
BEGIN:STANDARD
TZOFFSETFROM:+0100
TZOFFSETTO:+0000
TZNAME:GMT
DTSTART:20251026T010000
END:STANDARD
END:VTIMEZONE
BEGIN:VEVENT
DTSTART;TZID=Europe/London:20241113T090000
DTEND;TZID=Europe/London:20241114T163000
DTSTAMP:20260424T053813
CREATED:20241108T155141Z
LAST-MODIFIED:20241108T155141Z
UID:2465-1731488400-1731601800@kyocera-sgstool.co.uk
SUMMARY:Grob Open House
DESCRIPTION:We are pleased to be partnering with GROB again this year\, as part of their extremely successful Open House on 13th and 14th November 2024 at their Technical Centre in Stratford-Upon-Avon. To register for your ticket\, click here OPEN HOUSE GROB MACHINE TOOLS UK 2024
URL:https://kyocera-sgstool.co.uk/event/grob-open-house/
LOCATION:Grob Technical Centre\, Timothy’s Bridge Road\, Stratford-upon-Avon\, Warwickshire\, CV37 9NQ\, Great Britain\, Stratford Upon Avon\, CV37 9NQ\, United Kingdom
END:VEVENT
END:VCALENDAR