BEGIN:VCALENDAR
VERSION:2.0
PRODID:-//Kyocera SGS Europe - ECPv6.15.17//NONSGML v1.0//EN
CALSCALE:GREGORIAN
METHOD:PUBLISH
X-ORIGINAL-URL:https://kyocera-sgstool.co.uk
X-WR-CALDESC:Events for Kyocera SGS Europe
REFRESH-INTERVAL;VALUE=DURATION:PT1H
X-Robots-Tag:noindex
X-PUBLISHED-TTL:PT1H
BEGIN:VTIMEZONE
TZID:Europe/London
BEGIN:DAYLIGHT
TZOFFSETFROM:+0000
TZOFFSETTO:+0100
TZNAME:BST
DTSTART:20250330T010000
END:DAYLIGHT
BEGIN:STANDARD
TZOFFSETFROM:+0100
TZOFFSETTO:+0000
TZNAME:GMT
DTSTART:20251026T010000
END:STANDARD
BEGIN:DAYLIGHT
TZOFFSETFROM:+0000
TZOFFSETTO:+0100
TZNAME:BST
DTSTART:20260329T010000
END:DAYLIGHT
BEGIN:STANDARD
TZOFFSETFROM:+0100
TZOFFSETTO:+0000
TZNAME:GMT
DTSTART:20261025T010000
END:STANDARD
BEGIN:DAYLIGHT
TZOFFSETFROM:+0000
TZOFFSETTO:+0100
TZNAME:BST
DTSTART:20270328T010000
END:DAYLIGHT
BEGIN:STANDARD
TZOFFSETFROM:+0100
TZOFFSETTO:+0000
TZNAME:GMT
DTSTART:20271031T010000
END:STANDARD
END:VTIMEZONE
BEGIN:VEVENT
DTSTART;VALUE=DATE:20260420
DTEND;VALUE=DATE:20260425
DTSTAMP:20260424T052618
CREATED:20260209T145449Z
LAST-MODIFIED:20260209T145449Z
UID:2878-1776643200-1777075199@kyocera-sgstool.co.uk
SUMMARY:MACH 2026 - Be part of it...
DESCRIPTION:Visit Kyocera SGS Precision Tools Europe at MACH 2026 on Stand 17-228 to discover how smarter machining strategies can deliver real productivity gains. \nOur team of applications and manufacturing engineers will be showcasing high-performance solid carbide cutting tools designed to reduce cycle times\, improve surface quality and extend tool life across aerospace\, medical and general engineering applications. \nDiscuss process optimisation insights and the latest innovations in roughing and finishing performance with our highly experienced team on the stand and even pick up some MACH exclusive SGS goodies! \nWhether you’re machining advanced materials or looking to increase capacity\, visit our stand to see how engineering partnership drives measurable results. \nRegister here:MACH 2026 free registration with Kyocera SGS
URL:https://kyocera-sgstool.co.uk/event/mach-2026-be-part-of-it/
LOCATION:NEC Birmingham
CATEGORIES:Exhibition
END:VEVENT
END:VCALENDAR