BEGIN:VCALENDAR
VERSION:2.0
PRODID:-//Kyocera SGS Europe - ECPv6.15.17//NONSGML v1.0//EN
CALSCALE:GREGORIAN
METHOD:PUBLISH
X-WR-CALNAME:Kyocera SGS Europe
X-ORIGINAL-URL:https://kyocera-sgstool.co.uk
X-WR-CALDESC:Events for Kyocera SGS Europe
REFRESH-INTERVAL;VALUE=DURATION:PT1H
X-Robots-Tag:noindex
X-PUBLISHED-TTL:PT1H
BEGIN:VTIMEZONE
TZID:Europe/London
BEGIN:DAYLIGHT
TZOFFSETFROM:+0000
TZOFFSETTO:+0100
TZNAME:BST
DTSTART:20180325T010000
END:DAYLIGHT
BEGIN:STANDARD
TZOFFSETFROM:+0100
TZOFFSETTO:+0000
TZNAME:GMT
DTSTART:20181028T010000
END:STANDARD
BEGIN:DAYLIGHT
TZOFFSETFROM:+0000
TZOFFSETTO:+0100
TZNAME:BST
DTSTART:20190331T010000
END:DAYLIGHT
BEGIN:STANDARD
TZOFFSETFROM:+0100
TZOFFSETTO:+0000
TZNAME:GMT
DTSTART:20191027T010000
END:STANDARD
BEGIN:DAYLIGHT
TZOFFSETFROM:+0000
TZOFFSETTO:+0100
TZNAME:BST
DTSTART:20200329T010000
END:DAYLIGHT
BEGIN:STANDARD
TZOFFSETFROM:+0100
TZOFFSETTO:+0000
TZNAME:GMT
DTSTART:20201025T010000
END:STANDARD
END:VTIMEZONE
BEGIN:VEVENT
DTSTART;TZID=Europe/London:20190522T093000
DTEND;TZID=Europe/London:20190522T150000
DTSTAMP:20260422T230422
CREATED:20190811T122538Z
LAST-MODIFIED:20200213T101407Z
UID:150-1558517400-1558537200@kyocera-sgstool.co.uk
SUMMARY:Lunch and Learn (TM) Event at Kyocera SGS
DESCRIPTION:This time\, the theme is Single Operation Manufacture and Optimisation of Complex Components. Attendees will be able to hear from industry leaders on how to apply new technologies to make significant time savings\, improve cutting tool and machine life and maximise and reduce the costs of manufacturing machined aerospace and automotive components. Not bad for one morning away from the office. \nMeet and see:\n\nLive Cutting Tool Demonstrations of Complex Components\nKyocera SGS Latest Patented Manufacturing Technologies\nCGTech\, VERICUT Force module\nLMG programming solutions\nIMS Software technologies
URL:https://kyocera-sgstool.co.uk/event/lunch-and-learn-tm-event-at-kyocera-sgs/
LOCATION:Kyocera SGS\, 10 Ashville Way\, Wokingham\, Berkshire\, RG41 2P\, United Kingdom
CATEGORIES:Lunch and Learn
ATTACH;FMTTYPE=image/jpeg:https://kyocera-sgstool.co.uk/wp-content/uploads/2020/02/email-signature.jpg
ORGANIZER;CN="KYOCERA SGS Precision Tools Europe Ltd":MAILTO:salesEU@kyocera-sgstool.com
END:VEVENT
END:VCALENDAR